BEGIN:VCALENDAR
VERSION:2.0
PRODID:-//Liquid Grip™ - ECPv4.7.1//NONSGML v1.0//EN
CALSCALE:GREGORIAN
METHOD:PUBLISH
X-WR-CALNAME:Liquid Grip™
X-ORIGINAL-URL:https://liquidgrip.com
X-WR-CALDESC:Events for Liquid Grip™
BEGIN:VEVENT
DTSTART;TZID=UTC-8:20190106T080000
DTEND;TZID=UTC-8:20190109T170000
DTSTAMP:20260424T174209
CREATED:20181203T213857Z
LAST-MODIFIED:20181203T213857Z
UID:1787-1546761600-1547053200@liquidgrip.com
SUMMARY:2019 AFCA Convention in San Antonio\, TX
DESCRIPTION:2019 AFCA Convention in San Antonio\, TX. The AFCA annual convention is a premier networking event for coaches from all around the country. We’ll be holding running a booth the 6-9\, so make sure to stop by and get some free samples! Find out more at https://www.afca.com/afca-convention/.  \n
URL:https://liquidgrip.com/event/2019-afca-convention-in-san-antonio-tx/
LOCATION:AFCA Convention\, Henry B. Gonzáles Convention Center\, San Antonio\, TX\, United States
ATTACH;FMTTYPE=image/png:https://liquidgrip.com/wp-content/uploads/2018/11/AFCAconvention-2019-logo-small-e1543970206262.png
END:VEVENT
END:VCALENDAR