BEGIN:VCALENDAR
VERSION:2.0
PRODID:-//Liquid Grip™ - ECPv4.7.1//NONSGML v1.0//EN
CALSCALE:GREGORIAN
METHOD:PUBLISH
X-WR-CALNAME:Liquid Grip™
X-ORIGINAL-URL:https://liquidgrip.com
X-WR-CALDESC:Events for Liquid Grip™
BEGIN:VEVENT
DTSTART;TZID=UTC-8:20190301T080000
DTEND;TZID=UTC-8:20190302T170000
DTSTAMP:20260424T174224
CREATED:20181205T000508Z
LAST-MODIFIED:20181205T000508Z
UID:1789-1551427200-1551546000@liquidgrip.com
SUMMARY:Max Miller's Clinic of Champions Reno
DESCRIPTION:We’ll be attending the 39th annual Max Miller’s Clinic of Champions in Reno\, NV March 1-2\, 2019. The Max Miller Clinic of Champions offers quality instruction for college\, high school and youth football coaches. Be sure to stop by our booth for samples and take the Liquid Grip Challenge! \n
URL:https://liquidgrip.com/event/max-millers-clinic-of-champions-reno/
ATTACH;FMTTYPE=image/png:https://liquidgrip.com/wp-content/uploads/2018/12/MaxMillersClinicofChampions.png
END:VEVENT
END:VCALENDAR